BEGIN:VCALENDAR
VERSION:2.0
PRODID:-//scnwo.org//NONSGML kigkonsult.se iCalcreator 2.30.10//
CALSCALE:GREGORIAN
METHOD:PUBLISH
UID:77ce8f3d-ad12-4092-90ba-0561989fb99f
X-WR-CALDESC:Starting at $25\n\nTopic: Conducting Risk and Hazard Analyses 
 in Relation to Disaster Management\nPresenter: Jason Black\, Informed Prep
 aredness\n\nBreakfast With The Experts programs feature knowledgeable spea
 kers who provide your organization with information needed to stay on top 
 of new safety and health regulations. The Safety Round Tables provide a un
 ique networking opportunity for safety professionals to share information 
 in the common goal of achieving a cost effective safe workplace.\n\nCost: 
 Members $25.00 per person\nNon-Members $35.00 per person\n\nCancellations 
 less than 24 hours in advance and No-shows are responsible for the full re
 gistration fees. Substitutions may be made at any time. Non-members must p
 repay to register.
X-WR-RELCALID:e0cc9aae9dbf5906a0d129afc08d5763
X-WR-TIMEZONE:America/New_York
BEGIN:VTIMEZONE
TZID:America/New_York
BEGIN:STANDARD
TZNAME:EST
DTSTART:20221106T020000
TZOFFSETFROM:-0400
TZOFFSETTO:-0500
RDATE:20231105T020000
RDATE:20241103T020000
END:STANDARD
BEGIN:DAYLIGHT
TZNAME:EDT
DTSTART:20230312T020000
TZOFFSETFROM:-0500
TZOFFSETTO:-0400
RDATE:20240310T020000
END:DAYLIGHT
END:VTIMEZONE
BEGIN:VEVENT
UID:8d3978d5-0016-4d75-b994-14de5c656c62
DTSTAMP:20260425T231823Z
DESCRIPTION:Starting at $25\n\nTopic: Conducting Risk and Hazard Analyses i
 n Relation to Disaster Management\nPresenter: Jason Black\, Informed Prepa
 redness\n\nBreakfast With The Experts programs feature knowledgeable speak
 ers who provide your organization with information needed to stay on top o
 f new safety and health regulations. The Safety Round Tables provide a uni
 que networking opportunity for safety professionals to share information i
 n the common goal of achieving a cost effective safe workplace.\n\nCost: M
 embers $25.00 per person\nNon-Members $35.00 per person\n\nCancellations l
 ess than 24 hours in advance and No-shows are responsible for the full reg
 istration fees. Substitutions may be made at any time. Non-members must pr
 epay to register.
DTSTART;TZID=America/New_York:20230517T073000
DTEND;TZID=America/New_York:20230517T090000
LOCATION:The Pinnacle\, 1772 Indianwood Circle\, Maumee\, OH  43537
SUMMARY:Breakfast with the Experts
END:VEVENT
END:VCALENDAR
