BEGIN:VCALENDAR
VERSION:2.0
PRODID:-//scnwo.org//NONSGML kigkonsult.se iCalcreator 2.30.10//
CALSCALE:GREGORIAN
METHOD:PUBLISH
UID:dff874a0-6db3-4afb-a151-fc5e449e3e55
X-WR-CALDESC:Starting at: $150.00\n\n     As we continue to see an increase
  in visible awareness to safety and safe work practices such as “safety st
 arts here” banners\, logos - even work uniforms - this visible awareness i
 s not enough.  While total non-fatal recordable injuries continue to decli
 ne year over year\, serious and fatal injuries are increasing during the s
 ame time. A strong safety culture needs to transition beyond a simple\, pa
 ssive concern and move toward actively demonstrating care for others. Cari
 ng about safety is a good start but “actively caring” means going above an
 d beyond what is required or mandated and going to great lengths to ensure
  the well-being and safety of others in the workplace. This must begin at 
 the top of the leadership team. \n\nCost: Members: $150.00 per person\nNon
 -Members: $250.00 per person\n\nCancellations less than 24 hours in advanc
 e and no-shows are responsible for the full registration fees. Substitutio
 ns may be made at anytime.\n
X-WR-RELCALID:987df012c8357ebdb7e42d05093b5d3b
X-WR-TIMEZONE:America/New_York
BEGIN:VTIMEZONE
TZID:America/New_York
BEGIN:STANDARD
TZNAME:EST
DTSTART:20221106T020000
TZOFFSETFROM:-0400
TZOFFSETTO:-0500
RDATE:20231105T020000
RDATE:20241103T020000
END:STANDARD
BEGIN:DAYLIGHT
TZNAME:EDT
DTSTART:20230312T020000
TZOFFSETFROM:-0500
TZOFFSETTO:-0400
RDATE:20240310T020000
END:DAYLIGHT
END:VTIMEZONE
BEGIN:VEVENT
UID:50cfcb94-dc93-497f-ae82-92fad73127d6
DTSTAMP:20260425T170314Z
DESCRIPTION:Starting at: $150.00\n\n     As we continue to see an increase 
 in visible awareness to safety and safe work practices such as “safety sta
 rts here” banners\, logos - even work uniforms - this visible awareness is
  not enough.  While total non-fatal recordable injuries continue to declin
 e year over year\, serious and fatal injuries are increasing during the sa
 me time. A strong safety culture needs to transition beyond a simple\, pas
 sive concern and move toward actively demonstrating care for others. Carin
 g about safety is a good start but “actively caring” means going above and
  beyond what is required or mandated and going to great lengths to ensure 
 the well-being and safety of others in the workplace. This must begin at t
 he top of the leadership team. \n\nCost: Members: $150.00 per person\nNon-
 Members: $250.00 per person\n\nCancellations less than 24 hours in advance
  and no-shows are responsible for the full registration fees. Substitution
 s may be made at anytime.\n
DTSTART;TZID=America/New_York:20230531T090000
DTEND;TZID=America/New_York:20230531T120000
LOCATION:Safety Council of Northwest Ohio\, 8015 Rinker Pointe Court\, Nort
 hwood\, OH 43619
SUMMARY:Safety Culture Transformation
END:VEVENT
END:VCALENDAR
