BEGIN:VCALENDAR
VERSION:2.0
PRODID:-//scnwo.org//NONSGML kigkonsult.se iCalcreator 2.30.10//
CALSCALE:GREGORIAN
METHOD:PUBLISH
UID:ef5756d4-3fa0-4e05-821a-f46d152c0e7e
X-WR-CALDESC:FREE Starting September\n\nTOPIC: Walking Working Surfaces\nPR
 ESENTERS: Ray Struffolino\, COSS\n\nConstruction Safety Breakfast programs
  feature knowledgeable speakers who provide your organization with informa
 tion needed to stay on top of new safety and health regulations. The Safet
 y Round Tables provide a unique networking opportunity for safety professi
 onals to share information in the common goal of achieving a cost effectiv
 e safe workplace.\nPLEASE NOTE:  Virtual Meetings and Webinars are not eli
 gible for the BWC Safety Council Safety Campaign Rebate Program. \n\nFREE
X-WR-RELCALID:ad55f12af3f156d67d78b89d7212be83
X-WR-TIMEZONE:America/New_York
BEGIN:VTIMEZONE
TZID:America/New_York
BEGIN:STANDARD
TZNAME:EST
DTSTART:20221106T020000
TZOFFSETFROM:-0400
TZOFFSETTO:-0500
RDATE:20231105T020000
RDATE:20241103T020000
END:STANDARD
BEGIN:DAYLIGHT
TZNAME:EDT
DTSTART:20230312T020000
TZOFFSETFROM:-0500
TZOFFSETTO:-0400
RDATE:20240310T020000
RDATE:20250309T020000
END:DAYLIGHT
END:VTIMEZONE
BEGIN:VEVENT
UID:e05b77ed-9b93-4919-b4a4-e6bfad42c1ed
DTSTAMP:20260422T011808Z
DESCRIPTION:FREE Starting September\n\nTOPIC: Walking Working Surfaces\nPRE
 SENTERS: Ray Struffolino\, COSS\n\nConstruction Safety Breakfast programs 
 feature knowledgeable speakers who provide your organization with informat
 ion needed to stay on top of new safety and health regulations. The Safety
  Round Tables provide a unique networking opportunity for safety professio
 nals to share information in the common goal of achieving a cost effective
  safe workplace.\nPLEASE NOTE:  Virtual Meetings and Webinars are not elig
 ible for the BWC Safety Council Safety Campaign Rebate Program. \n\nFREE
DTSTART;TZID=America/New_York:20230926T080000
DTEND;TZID=America/New_York:20230926T091500
LOCATION:Virtual via Zoom
SUMMARY:Virtual Construction / Facilities Breakfast
END:VEVENT
END:VCALENDAR
