BEGIN:VCALENDAR
VERSION:2.0
PRODID:-//scnwo.org//NONSGML kigkonsult.se iCalcreator 2.30.10//
CALSCALE:GREGORIAN
METHOD:PUBLISH
UID:1b3d34df-b6ac-4520-9123-8edbb2ee03c6
X-WR-CALDESC:Construction Safety Breakfast programs feature knowledgeable s
 peakers who provide your organization with information needed to stay on t
 op of new safety and health regulations. The Safety Round Tables provide a
  unique networking opportunity for safety professionals to share informati
 on in the common goal of achieving a cost effective safe workplace.\nPLEAS
 E NOTE:  Virtual Meetings and Webinars are not eligible for the BWC Safety
  Council Safety Campaign Rebate Program. \n\nFREE\n
X-WR-RELCALID:96d53e19dd54bafc2f2e91dfc35a34df
X-WR-TIMEZONE:America/New_York
BEGIN:VTIMEZONE
TZID:America/New_York
BEGIN:STANDARD
TZNAME:EST
DTSTART:20221106T020000
TZOFFSETFROM:-0400
TZOFFSETTO:-0500
RDATE:20231105T020000
RDATE:20241103T020000
END:STANDARD
BEGIN:DAYLIGHT
TZNAME:EDT
DTSTART:20230312T020000
TZOFFSETFROM:-0500
TZOFFSETTO:-0400
RDATE:20240310T020000
RDATE:20250309T020000
END:DAYLIGHT
END:VTIMEZONE
BEGIN:VEVENT
UID:7ea99b9f-e4eb-4d87-beb8-19df8e54e022
DTSTAMP:20260421T125148Z
DESCRIPTION:Construction Safety Breakfast programs feature knowledgeable sp
 eakers who provide your organization with information needed to stay on to
 p of new safety and health regulations. The Safety Round Tables provide a 
 unique networking opportunity for safety professionals to share informatio
 n in the common goal of achieving a cost effective safe workplace.\nPLEASE
  NOTE:  Virtual Meetings and Webinars are not eligible for the BWC Safety 
 Council Safety Campaign Rebate Program. \n\nFREE\n
DTSTART;TZID=America/New_York:20231024T080000
DTEND;TZID=America/New_York:20231024T091500
LOCATION:Virtual via Zoom
SUMMARY:Virtual Construction / Facilities Breakfast
END:VEVENT
END:VCALENDAR
