BEGIN:VCALENDAR
VERSION:2.0
PRODID:-//scnwo.org//NONSGML kigkonsult.se iCalcreator 2.30.10//
CALSCALE:GREGORIAN
METHOD:PUBLISH
UID:6f6a6b03-839a-43e5-ae1e-c9c85161408e
X-WR-CALDESC:Starting at $25\nTopic: Winter Wellness Update:  Respiratory V
 iruses\, the Flu and the Latest on COVID\nPresenter: Terri DeTano\, Epidem
 iologist\n Lucas County Health Dept. \n\nBreakfast With The Experts progra
 ms feature knowledgeable speakers who provide your organization with infor
 mation needed to stay on top of new safety and health regulations. The Saf
 ety Round Tables provide a unique networking opportunity for safety profes
 sionals to share information in the common goal of achieving a cost effect
 ive safe workplace.\n\nCost: Members $25.00 per person\nNon-Members $35.00
  per person\n\nCancellations less than 24 hours in advance and No-shows ar
 e responsible for the full registration fees. Substitutions may be made at
  any time. Non-members must prepay to register.
X-WR-RELCALID:ee950ac60c239f5097a849d69083ea2e
X-WR-TIMEZONE:America/New_York
BEGIN:VTIMEZONE
TZID:America/New_York
BEGIN:STANDARD
TZNAME:EST
DTSTART:20231105T020000
TZOFFSETFROM:-0400
TZOFFSETTO:-0500
RDATE:20241103T020000
END:STANDARD
BEGIN:DAYLIGHT
TZNAME:EDT
DTSTART:20230312T020000
TZOFFSETFROM:-0500
TZOFFSETTO:-0400
RDATE:20240310T020000
RDATE:20250309T020000
END:DAYLIGHT
END:VTIMEZONE
BEGIN:VEVENT
UID:8382aa8b-c1bd-4ce2-be0b-46d44a604321
DTSTAMP:20260424T064735Z
DESCRIPTION:Starting at $25\nTopic: Winter Wellness Update:  Respiratory Vi
 ruses\, the Flu and the Latest on COVID\nPresenter: Terri DeTano\, Epidemi
 ologist\n Lucas County Health Dept. \n\nBreakfast With The Experts program
 s feature knowledgeable speakers who provide your organization with inform
 ation needed to stay on top of new safety and health regulations. The Safe
 ty Round Tables provide a unique networking opportunity for safety profess
 ionals to share information in the common goal of achieving a cost effecti
 ve safe workplace.\n\nCost: Members $25.00 per person\nNon-Members $35.00 
 per person\n\nCancellations less than 24 hours in advance and No-shows are
  responsible for the full registration fees. Substitutions may be made at 
 any time. Non-members must prepay to register.
DTSTART;TZID=America/New_York:20231220T073000
DTEND;TZID=America/New_York:20231220T090000
LOCATION:The Pinnacle\, 1772 Indianwood Circle\, Maumee\, OH  43537
SUMMARY:Breakfast with the Experts
END:VEVENT
END:VCALENDAR
