BEGIN:VCALENDAR
VERSION:2.0
PRODID:-//scnwo.org//NONSGML kigkonsult.se iCalcreator 2.30.10//
CALSCALE:GREGORIAN
METHOD:PUBLISH
UID:a27ec511-70f2-4ab8-a013-828200d73875
X-WR-CALDESC:Starting at: $105.00\n\n8:00 a.m. - 12:00 p.m. - Virtual via Z
 oom\n\nThis training explains the recordkeeping requirements of OSHA (Occu
 pational Safety and Health Administration) and PERRP (Public Employment Ri
 sk Reduction Program).\n\nIt will also include the latest requirements for
  recording and reporting Coronavirus (COVID-19) cases.\n\nProgram highligh
 ts include: \n►  Working with OSHA 300\, 300A and 301 recordkeeping forms\
 ; \n►  Determining accident frequency and severity rates\;\n►  How to comp
 are your performance with other employees whose work and workforce are sim
 ilar\; \n►  How to determine -- and document -- the difference between new
  and recurring illnesses and injuries\;\n►  Defining recordable injuries a
 nd illnesses. \n\nRemember! You and your business may thoroughly comply wi
 th OSHA standards. However\, if you fall short when it comes to record kee
 ping your company can still end up paying thousands of dollars. \n\nOSHA’s
  recordkeeping requirements have been in place since 1971.  Their purpose 
 is to help employees recognize workplace hazards and to correct hazardous 
 conditions by keeping track of work related injuries and illnesses and the
 ir causes. \n\nWho should attend? \nThis session will be of special intere
 st to those responsible for OSHA recordkeeping in their organizations- saf
 ety professionals\, facility managers\, clerical workers\, worker’s compen
 sation care managers\, safety committee members\, human resources personne
 l\, occupational health nurses and all levels of managers.  If you think y
 ou might need to know about this\, you’re probably right and you should at
 tend.\n\nFour (4) Contact Hours.\nCost: Members $105.00 per person\n      
     Non-Members $155.00 per person\n\nIf your company has 5 or more employ
 ees that need training\, call us and we can come to your facility.  \n\nCa
 ncellations less than 24 hours in advance and no-shows are responsible for
  the full registration fees. Substitutions may be made at anytime. Non-mem
 bers must prepay to register.\n
X-WR-RELCALID:49755bd9fb915c13e7382e0dc9a77259
X-WR-TIMEZONE:America/New_York
BEGIN:VTIMEZONE
TZID:America/New_York
BEGIN:STANDARD
TZNAME:EST
DTSTART:20231105T020000
TZOFFSETFROM:-0400
TZOFFSETTO:-0500
RDATE:20241103T020000
END:STANDARD
BEGIN:DAYLIGHT
TZNAME:EDT
DTSTART:20230312T020000
TZOFFSETFROM:-0500
TZOFFSETTO:-0400
RDATE:20240310T020000
RDATE:20250309T020000
END:DAYLIGHT
END:VTIMEZONE
BEGIN:VEVENT
UID:88632383-47f4-4d39-a526-b69c0ba5efd9
DTSTAMP:20260424T183320Z
DESCRIPTION:Starting at: $105.00\n\n8:00 a.m. - 12:00 p.m. - Virtual via Zo
 om\n\nThis training explains the recordkeeping requirements of OSHA (Occup
 ational Safety and Health Administration) and PERRP (Public Employment Ris
 k Reduction Program).\n\nIt will also include the latest requirements for 
 recording and reporting Coronavirus (COVID-19) cases.\n\nProgram highlight
 s include: \n►  Working with OSHA 300\, 300A and 301 recordkeeping forms\;
  \n►  Determining accident frequency and severity rates\;\n►  How to compa
 re your performance with other employees whose work and workforce are simi
 lar\; \n►  How to determine -- and document -- the difference between new 
 and recurring illnesses and injuries\;\n►  Defining recordable injuries an
 d illnesses. \n\nRemember! You and your business may thoroughly comply wit
 h OSHA standards. However\, if you fall short when it comes to record keep
 ing your company can still end up paying thousands of dollars. \n\nOSHA’s 
 recordkeeping requirements have been in place since 1971.  Their purpose i
 s to help employees recognize workplace hazards and to correct hazardous c
 onditions by keeping track of work related injuries and illnesses and thei
 r causes. \n\nWho should attend? \nThis session will be of special interes
 t to those responsible for OSHA recordkeeping in their organizations- safe
 ty professionals\, facility managers\, clerical workers\, worker’s compens
 ation care managers\, safety committee members\, human resources personnel
 \, occupational health nurses and all levels of managers.  If you think yo
 u might need to know about this\, you’re probably right and you should att
 end.\n\nFour (4) Contact Hours.\nCost: Members $105.00 per person\n       
    Non-Members $155.00 per person\n\nIf your company has 5 or more employe
 es that need training\, call us and we can come to your facility.  \n\nCan
 cellations less than 24 hours in advance and no-shows are responsible for 
 the full registration fees. Substitutions may be made at anytime. Non-memb
 ers must prepay to register.\n
DTSTART;TZID=America/New_York:20240126T080000
DTEND;TZID=America/New_York:20240126T120000
LOCATION:Safety Council of Northwest Ohio\, 8015 Rinker Pointe Court\, Nort
 hwood\, OH 43619
SUMMARY:OSHA/PERRP Recordkeeping - Virtual via Zoom
END:VEVENT
END:VCALENDAR
