BEGIN:VCALENDAR
VERSION:2.0
PRODID:-//scnwo.org//NONSGML kigkonsult.se iCalcreator 2.30.10//
CALSCALE:GREGORIAN
METHOD:PUBLISH
UID:77b3438a-b10b-4a1a-b7b4-069efc822866
X-WR-CALDESC:8:00 a.m. - 11:30 p.m. each day\n\nInvestment: $50.00 per pers
 on \n\n     This 6-Hour\, 2-day Continuing Education program will comply w
 ith the State of Ohio Administrative Code 4501-7 and 4501-8\, that states 
 all driving instructors are required to have continuing education every th
 ree years. This program will be held virtually via Zoom. All participants 
 must have their cameras on and be visible at all times. Participants may n
 ot be on their phones\, doing other work\, or talking to people during the
  course. Repetitive violations will result in removal from the session and
  attendee will not get credit. \n\nTOPICS:		DAY 1:  Distracted Driving Updat
 e w/Phones Down Law update\; Presentation   \n                            
                      Skills\; Electric Vehicle Safety (for owners and fell
 ow roadway users)\n			DAY 2:  Speaking for Success\; OAC Review\; Non-Verbal 
 Communication\n\nAdvance registration is required and payment must be rece
 ived prior to class.\n\nQuestions?\n                      In regards to th
 e Continuing Education program\, contact the Safety Council toll-free (877
 ) 457-1818\n                      In regards to State of Ohio DPS issues\,
  contact Stacey Thompson (614) 466-3524
X-WR-RELCALID:873eb24b72f3e0e3bd30046529147e15
X-WR-TIMEZONE:America/New_York
BEGIN:VTIMEZONE
TZID:America/New_York
BEGIN:STANDARD
TZNAME:EST
DTSTART:20231105T020000
TZOFFSETFROM:-0400
TZOFFSETTO:-0500
RDATE:20241103T020000
END:STANDARD
BEGIN:DAYLIGHT
TZNAME:EDT
DTSTART:20230312T020000
TZOFFSETFROM:-0500
TZOFFSETTO:-0400
RDATE:20240310T020000
RDATE:20250309T020000
END:DAYLIGHT
END:VTIMEZONE
BEGIN:VEVENT
UID:c952ac94-7914-4fb2-80d3-5667e87dcdf6
DTSTAMP:20260422T205914Z
DESCRIPTION:8:00 a.m. - 11:30 p.m. each day\n\nInvestment: $50.00 per perso
 n \n\n     This 6-Hour\, 2-day Continuing Education program will comply wi
 th the State of Ohio Administrative Code 4501-7 and 4501-8\, that states a
 ll driving instructors are required to have continuing education every thr
 ee years. This program will be held virtually via Zoom. All participants m
 ust have their cameras on and be visible at all times. Participants may no
 t be on their phones\, doing other work\, or talking to people during the 
 course. Repetitive violations will result in removal from the session and 
 attendee will not get credit. \n\nTOPICS:		DAY 1:  Distracted Driving Update
  w/Phones Down Law update\; Presentation   \n                             
                     Skills\; Electric Vehicle Safety (for owners and fello
 w roadway users)\n			DAY 2:  Speaking for Success\; OAC Review\; Non-Verbal C
 ommunication\n\nAdvance registration is required and payment must be recei
 ved prior to class.\n\nQuestions?\n                      In regards to the
  Continuing Education program\, contact the Safety Council toll-free (877)
  457-1818\n                      In regards to State of Ohio DPS issues\, 
 contact Stacey Thompson (614) 466-3524
DTSTART;TZID=America/New_York:20240205T080000
DTEND;TZID=America/New_York:20240206T113000
LOCATION:Virtual via Zoom
SUMMARY:VIRTUAL- State of Ohio Approved Remedial Driving Training Continuin
 g Education
END:VEVENT
END:VCALENDAR
