BEGIN:VCALENDAR
VERSION:2.0
PRODID:-//scnwo.org//NONSGML kigkonsult.se iCalcreator 2.30.10//
CALSCALE:GREGORIAN
METHOD:PUBLISH
UID:118f20f5-573f-4628-9da8-85ae7e0cf3f8
X-WR-CALDESC:Starting at: $175.00\n\nInstructors:  Richard Barcum\, CIH CSP
  CHMM CIT\n                      Jeffrey Hutchins\, CIH\n                 
      Cardinal Compliance \n\n8:30 a.m. - 12:00 p.m.\n    \nThis half-day c
 ourse will provide initial training for persons designated by their constr
 uction\nmanagement to act as the Silica Competent Person for their site(s)
  or who want to learn more about the role of the competent person under th
 e OSHA Regulations for Respirable Crystalline Silica. \n\nParticipants wil
 l acquire knowledge through lecture and real-world interactive examples th
 at will help prepare them to comply with the new silica standard.\n\nCost:
  Members: $175.00 per person \nNon-members: $275.00 per person \n\nCancell
 ations less than 24 hours in advance and no-shows are responsible for the 
 full registration fees. Substitutions may be made at anytime. Non-members 
 must prepay to register.
X-WR-RELCALID:7ee3c126d38fe7422c1f4c040d1263a1
X-WR-TIMEZONE:America/New_York
BEGIN:VTIMEZONE
TZID:America/New_York
BEGIN:STANDARD
TZNAME:EST
DTSTART:20231105T020000
TZOFFSETFROM:-0400
TZOFFSETTO:-0500
RDATE:20241103T020000
END:STANDARD
BEGIN:DAYLIGHT
TZNAME:EDT
DTSTART:20240310T020000
TZOFFSETFROM:-0500
TZOFFSETTO:-0400
RDATE:20250309T020000
END:DAYLIGHT
END:VTIMEZONE
BEGIN:VEVENT
UID:51df7b46-a9e0-433c-b1c1-59ea473469f0
DTSTAMP:20260421T191339Z
DESCRIPTION:Starting at: $175.00\n\nInstructors:  Richard Barcum\, CIH CSP 
 CHMM CIT\n                      Jeffrey Hutchins\, CIH\n                  
     Cardinal Compliance \n\n8:30 a.m. - 12:00 p.m.\n    \nThis half-day co
 urse will provide initial training for persons designated by their constru
 ction\nmanagement to act as the Silica Competent Person for their site(s) 
 or who want to learn more about the role of the competent person under the
  OSHA Regulations for Respirable Crystalline Silica. \n\nParticipants will
  acquire knowledge through lecture and real-world interactive examples tha
 t will help prepare them to comply with the new silica standard.\n\nCost: 
 Members: $175.00 per person \nNon-members: $275.00 per person \n\nCancella
 tions less than 24 hours in advance and no-shows are responsible for the f
 ull registration fees. Substitutions may be made at anytime. Non-members m
 ust prepay to register.
DTSTART;TZID=America/New_York:20240313T083000
DTEND;TZID=America/New_York:20240313T120000
LOCATION:Safety Council of Northwest Ohio\, 8015 Rinker Pointe Court\, Nort
 hwood\, OH 43619
SUMMARY:Control of Respirable Crystalline Silica Dust
END:VEVENT
END:VCALENDAR
