BEGIN:VCALENDAR
VERSION:2.0
PRODID:-//scnwo.org//NONSGML kigkonsult.se iCalcreator 2.30.10//
CALSCALE:GREGORIAN
METHOD:PUBLISH
UID:d2bca58a-f172-4869-b517-fafb752ef2a1
X-WR-CALDESC:Starting at $25\n\nTOPIC: Vector Borne Diseases Including Zika
  Virus and Lyme Disease\nPRESENTER: Toledo Lucas County Health Department
 \n\nBreakfast With The Experts programs feature knowledgeable speakers who
  provide your organization with information needed to stay on top of new s
 afety and health regulations. The Safety Round Tables provide a unique net
 working opportunity for safety professionals to share information in the c
 ommon goal of achieving a cost effective safe workplace.\n\nCost: Members 
 $25.00 per person\nNon-Members $35.00 per person\n\nCancellations less tha
 n 24 hours in advance and No-shows are responsible for the full registrati
 on fees. Substitutions may be made at any time. Non-members must prepay to
  register.
X-WR-RELCALID:14ca1d614e48c6611d8aac5332c77c76
X-WR-TIMEZONE:America/New_York
BEGIN:VTIMEZONE
TZID:America/New_York
BEGIN:STANDARD
TZNAME:EST
DTSTART:20231105T020000
TZOFFSETFROM:-0400
TZOFFSETTO:-0500
RDATE:20241103T020000
RDATE:20251102T020000
END:STANDARD
BEGIN:DAYLIGHT
TZNAME:EDT
DTSTART:20240310T020000
TZOFFSETFROM:-0500
TZOFFSETTO:-0400
RDATE:20250309T020000
END:DAYLIGHT
END:VTIMEZONE
BEGIN:VEVENT
UID:2f5c857c-4fea-461b-93a8-e1cd66b8fb68
DTSTAMP:20260422T151927Z
DESCRIPTION:Starting at $25\n\nTOPIC: Vector Borne Diseases Including Zika 
 Virus and Lyme Disease\nPRESENTER: Toledo Lucas County Health Department\n
 \nBreakfast With The Experts programs feature knowledgeable speakers who p
 rovide your organization with information needed to stay on top of new saf
 ety and health regulations. The Safety Round Tables provide a unique netwo
 rking opportunity for safety professionals to share information in the com
 mon goal of achieving a cost effective safe workplace.\n\nCost: Members $2
 5.00 per person\nNon-Members $35.00 per person\n\nCancellations less than 
 24 hours in advance and No-shows are responsible for the full registration
  fees. Substitutions may be made at any time. Non-members must prepay to r
 egister.
DTSTART;TZID=America/New_York:20240522T073000
DTEND;TZID=America/New_York:20240522T090000
LOCATION:The Pinnacle\, 1772 Indianwood Circle\, Maumee\, OH  43537
SUMMARY:Breakfast with the Experts
END:VEVENT
END:VCALENDAR
