BEGIN:VCALENDAR
VERSION:2.0
PRODID:-//scnwo.org//NONSGML kigkonsult.se iCalcreator 2.30.10//
CALSCALE:GREGORIAN
METHOD:PUBLISH
UID:4137fd8c-74bf-4435-ac40-e479391e19a5
X-WR-CALDESC:Instructor:  Bob Momany\, COSS COSM\n\nStarting at: $25.00\n\n
 9:00 a.m. - 11:00 a.m. - Virtual via Zoom\n\nThis 2-hour webinar fulfills 
 the BWC Group Rating Safety Education Requirement for July 1\, 2022 group 
 members.\nPLEASE NOTE:  Virtual Meetings and Webinars are not eligible for
  the BWC Safety Council Safety Campaign Rebate Program. \n\nTwo (2) Contac
 t Hours.\nCost: Members $25.00 per person\n          Non-Members $35.00 pe
 r person\n\nCancellations less than 24 hours in advance and no-shows are r
 esponsible for the full registration fees. Substitutions may be made at an
 ytime. Non-members must prepay to register.
X-WR-RELCALID:7ac0bd413322401b1672b1592c14a391
X-WR-TIMEZONE:America/New_York
BEGIN:VTIMEZONE
TZID:America/New_York
BEGIN:STANDARD
TZNAME:EST
DTSTART:20231105T020000
TZOFFSETFROM:-0400
TZOFFSETTO:-0500
RDATE:20241103T020000
RDATE:20251102T020000
END:STANDARD
BEGIN:DAYLIGHT
TZNAME:EDT
DTSTART:20240310T020000
TZOFFSETFROM:-0500
TZOFFSETTO:-0400
RDATE:20250309T020000
END:DAYLIGHT
END:VTIMEZONE
BEGIN:VEVENT
UID:255bfd66-7028-4254-990c-e5076c90d231
DTSTAMP:20260421T001037Z
DESCRIPTION:Instructor:  Bob Momany\, COSS COSM\n\nStarting at: $25.00\n\n9
 :00 a.m. - 11:00 a.m. - Virtual via Zoom\n\nThis 2-hour webinar fulfills t
 he BWC Group Rating Safety Education Requirement for July 1\, 2022 group m
 embers.\nPLEASE NOTE:  Virtual Meetings and Webinars are not eligible for 
 the BWC Safety Council Safety Campaign Rebate Program. \n\nTwo (2) Contact
  Hours.\nCost: Members $25.00 per person\n          Non-Members $35.00 per
  person\n\nCancellations less than 24 hours in advance and no-shows are re
 sponsible for the full registration fees. Substitutions may be made at any
 time. Non-members must prepay to register.
DTSTART;TZID=America/New_York:20240603T090000
DTEND;TZID=America/New_York:20240603T110000
LOCATION:VIRTUAL via ZOOM
SUMMARY:Lockout/Tagout requirements and practices (2-Hr. Webinar)
END:VEVENT
END:VCALENDAR
