BEGIN:VCALENDAR
VERSION:2.0
PRODID:-//scnwo.org//NONSGML kigkonsult.se iCalcreator 2.30.10//
CALSCALE:GREGORIAN
METHOD:PUBLISH
UID:9ac1785e-50e1-4b9d-aa81-4c4aa89cc0c3
X-WR-CALDESC:Starting at $25\nTOPIC: Overlooked Industrial Hygiene Hazards
 \nPRESENTER: Ben Smigielski\n                      Ohio BWC\n\nBreakfast W
 ith The Experts programs feature knowledgeable speakers who provide your o
 rganization with information needed to stay on top of new safety and healt
 h regulations. The Safety Round Tables provide a unique networking opportu
 nity for safety professionals to share information in the common goal of a
 chieving a cost effective safe workplace.\n\nCost: Members $25.00 per pers
 on\nNon-Members $35.00 per person\n\nCancellations less than 24 hours in a
 dvance and No-shows are responsible for the full registration fees. Substi
 tutions may be made at any time. Non-members must prepay to register.
X-WR-RELCALID:dc82ade9e0ffdb4b7a4a855b640fd893
X-WR-TIMEZONE:America/New_York
BEGIN:VTIMEZONE
TZID:America/New_York
BEGIN:STANDARD
TZNAME:EST
DTSTART:20231105T020000
TZOFFSETFROM:-0400
TZOFFSETTO:-0500
RDATE:20241103T020000
RDATE:20251102T020000
END:STANDARD
BEGIN:DAYLIGHT
TZNAME:EDT
DTSTART:20240310T020000
TZOFFSETFROM:-0500
TZOFFSETTO:-0400
RDATE:20250309T020000
END:DAYLIGHT
END:VTIMEZONE
BEGIN:VEVENT
UID:9c273c5b-ccb8-4556-ae59-847ffbe6a397
DTSTAMP:20260422T174651Z
DESCRIPTION:Starting at $25\nTOPIC: Overlooked Industrial Hygiene Hazards\n
 PRESENTER: Ben Smigielski\n                      Ohio BWC\n\nBreakfast Wit
 h The Experts programs feature knowledgeable speakers who provide your org
 anization with information needed to stay on top of new safety and health 
 regulations. The Safety Round Tables provide a unique networking opportuni
 ty for safety professionals to share information in the common goal of ach
 ieving a cost effective safe workplace.\n\nCost: Members $25.00 per person
 \nNon-Members $35.00 per person\n\nCancellations less than 24 hours in adv
 ance and No-shows are responsible for the full registration fees. Substitu
 tions may be made at any time. Non-members must prepay to register.
DTSTART;TZID=America/New_York:20240717T073000
DTEND;TZID=America/New_York:20240717T090000
LOCATION:The Pinnacle\, 1772 Indianwood Circle\, Maumee\, OH  43537
SUMMARY:Breakfast with the Experts
END:VEVENT
END:VCALENDAR
