BEGIN:VCALENDAR
VERSION:2.0
PRODID:-//scnwo.org//NONSGML kigkonsult.se iCalcreator 2.30.10//
CALSCALE:GREGORIAN
METHOD:PUBLISH
UID:d8555f04-f44b-43ca-a3be-413b9debd902
X-WR-CALDESC:Starting at $25\n\nTOPIC: Fire Safety & Prevention\nPRESENTER:
  Toledo Fire & Rescue\n\nBreakfast With The Experts programs feature knowl
 edgeable speakers who provide your organization with information needed to
  stay on top of new safety and health regulations. The Safety Round Tables
  provide a unique networking opportunity for safety professionals to share
  information in the common goal of achieving a cost effective safe workpla
 ce.\n\nCost: Members $25.00 per person\nNon-Members $35.00 per person\n\nC
 ancellations less than 24 hours in advance and No-shows are responsible fo
 r the full registration fees. Substitutions may be made at any time. Non-m
 embers must prepay to register.
X-WR-RELCALID:7de25f57a165a5cdbe1b2e5cf1fcf6e1
X-WR-TIMEZONE:America/New_York
BEGIN:VTIMEZONE
TZID:America/New_York
BEGIN:STANDARD
TZNAME:EST
DTSTART:20231105T020000
TZOFFSETFROM:-0400
TZOFFSETTO:-0500
RDATE:20241103T020000
RDATE:20251102T020000
END:STANDARD
BEGIN:DAYLIGHT
TZNAME:EDT
DTSTART:20240310T020000
TZOFFSETFROM:-0500
TZOFFSETTO:-0400
RDATE:20250309T020000
RDATE:20260308T020000
END:DAYLIGHT
END:VTIMEZONE
BEGIN:VEVENT
UID:840dcea0-f654-4ddf-8164-8d41b4233290
DTSTAMP:20260420T120247Z
DESCRIPTION:Starting at $25\n\nTOPIC: Fire Safety & Prevention\nPRESENTER: 
 Toledo Fire & Rescue\n\nBreakfast With The Experts programs feature knowle
 dgeable speakers who provide your organization with information needed to 
 stay on top of new safety and health regulations. The Safety Round Tables 
 provide a unique networking opportunity for safety professionals to share 
 information in the common goal of achieving a cost effective safe workplac
 e.\n\nCost: Members $25.00 per person\nNon-Members $35.00 per person\n\nCa
 ncellations less than 24 hours in advance and No-shows are responsible for
  the full registration fees. Substitutions may be made at any time. Non-me
 mbers must prepay to register.
DTSTART;TZID=America/New_York:20241016T073000
DTEND;TZID=America/New_York:20241016T090000
LOCATION:The Pinnacle\, 1772 Indianwood Circle\, Maumee\, OH  43537
SUMMARY:Breakfast with the Experts
END:VEVENT
END:VCALENDAR
