BEGIN:VCALENDAR
VERSION:2.0
PRODID:-//scnwo.org//NONSGML kigkonsult.se iCalcreator 2.30.10//
CALSCALE:GREGORIAN
METHOD:PUBLISH
UID:317d00d0-0efd-49da-b343-de3f3e61900b
X-WR-CALDESC:TOPIC: First Aid / Bloodborne Pathogens\nPRESENTER: Ray Struff
 olino\, COSS\n\nMonthly Safety Webinar programs feature knowledgeable spea
 kers who provide your organization with information needed to stay on top 
 of new safety and health regulations. \n\nPLEASE NOTE:  Virtual Meetings a
 nd Webinars are not eligible for the BWC Safety Council Safety Campaign Re
 bate Program. \n\nFREE\n
X-WR-RELCALID:e61c3b5ccfac3c2c6ac51c18c214ef42
X-WR-TIMEZONE:America/New_York
BEGIN:VTIMEZONE
TZID:America/New_York
BEGIN:STANDARD
TZNAME:EST
DTSTART:20231105T020000
TZOFFSETFROM:-0400
TZOFFSETTO:-0500
RDATE:20241103T020000
RDATE:20251102T020000
END:STANDARD
BEGIN:DAYLIGHT
TZNAME:EDT
DTSTART:20240310T020000
TZOFFSETFROM:-0500
TZOFFSETTO:-0400
RDATE:20250309T020000
RDATE:20260308T020000
END:DAYLIGHT
END:VTIMEZONE
BEGIN:VEVENT
UID:ebec2ad0-8019-4287-91fd-c6fafea26143
DTSTAMP:20260421T220800Z
DESCRIPTION:TOPIC: First Aid / Bloodborne Pathogens\nPRESENTER: Ray Struffo
 lino\, COSS\n\nMonthly Safety Webinar programs feature knowledgeable speak
 ers who provide your organization with information needed to stay on top o
 f new safety and health regulations. \n\nPLEASE NOTE:  Virtual Meetings an
 d Webinars are not eligible for the BWC Safety Council Safety Campaign Reb
 ate Program. \n\nFREE\n
DTSTART;TZID=America/New_York:20241024T080000
DTEND;TZID=America/New_York:20241024T091500
LOCATION:Virtual via Zoom
SUMMARY:Monthly Safety Webinar
END:VEVENT
END:VCALENDAR
