BEGIN:VCALENDAR
VERSION:2.0
PRODID:-//scnwo.org//NONSGML kigkonsult.se iCalcreator 2.30.10//
CALSCALE:GREGORIAN
METHOD:PUBLISH
UID:fc1ee426-e15f-460d-91a8-6f084e3ef570
X-WR-CALDESC:Instructor:  Bob Momany\, COSS COSM\n\nTOPIC: Workplace Accide
 nt Analysis\n\nStarting at: $25.00\n\n9:00 a.m. - 11:00 a.m. - Virtual via
  Zoom\n\nThis 2-hour webinar fulfills the BWC Group Rating Safety Educatio
 n Requirement for July 1\, 2022 group members.\nPLEASE NOTE:  Virtual Meet
 ings and Webinars are not eligible for the BWC Safety Council Safety Campa
 ign Rebate Program. \n\nTwo (2) Contact Hours.\nCost: Members $25.00 per p
 erson\n          Non-Members $35.00 per person\n\nCancellations less than 
 24 hours in advance and no-shows are responsible for the full registration
  fees. Substitutions may be made at anytime. Non-members must prepay to re
 gister.
X-WR-RELCALID:10f14502645efb1f330b827b7661e3f5
X-WR-TIMEZONE:America/New_York
BEGIN:VTIMEZONE
TZID:America/New_York
BEGIN:STANDARD
TZNAME:EST
DTSTART:20241103T020000
TZOFFSETFROM:-0400
TZOFFSETTO:-0500
RDATE:20251102T020000
END:STANDARD
BEGIN:DAYLIGHT
TZNAME:EDT
DTSTART:20250309T020000
TZOFFSETFROM:-0500
TZOFFSETTO:-0400
RDATE:20260308T020000
END:DAYLIGHT
END:VTIMEZONE
BEGIN:VEVENT
UID:a3b131ec-2ab1-4907-bd3b-08a1f552ce29
DTSTAMP:20260421T171324Z
DESCRIPTION:Instructor:  Bob Momany\, COSS COSM\n\nTOPIC: Workplace Acciden
 t Analysis\n\nStarting at: $25.00\n\n9:00 a.m. - 11:00 a.m. - Virtual via 
 Zoom\n\nThis 2-hour webinar fulfills the BWC Group Rating Safety Education
  Requirement for July 1\, 2022 group members.\nPLEASE NOTE:  Virtual Meeti
 ngs and Webinars are not eligible for the BWC Safety Council Safety Campai
 gn Rebate Program. \n\nTwo (2) Contact Hours.\nCost: Members $25.00 per pe
 rson\n          Non-Members $35.00 per person\n\nCancellations less than 2
 4 hours in advance and no-shows are responsible for the full registration 
 fees. Substitutions may be made at anytime. Non-members must prepay to reg
 ister.
DTSTART;TZID=America/New_York:20250327T090000
DTEND;TZID=America/New_York:20250327T110000
LOCATION:VIRTUAL via ZOOM
SUMMARY:BWC Webinar  (2-Hr. Webinar)
END:VEVENT
END:VCALENDAR
