BEGIN:VCALENDAR
VERSION:2.0
PRODID:-//scnwo.org//NONSGML kigkonsult.se iCalcreator 2.30.10//
CALSCALE:GREGORIAN
METHOD:PUBLISH
UID:6e2b6010-4d3e-4119-9485-69a5dc10829b
X-WR-CALDESC:TOPIC: Hand / Power Tool Safety\nPRESENTER: Ray Struffolino\, 
 COSS\n\nMonthly Safety Webinar programs feature knowledgeable speakers who
  provide your organization with information needed to stay on top of new s
 afety and health regulations. \n\nPLEASE NOTE:  Virtual Meetings and Webin
 ars are not eligible for the BWC Safety Council Safety Campaign Rebate Pro
 gram. \n\nFREE\n
X-WR-RELCALID:5de2aa17b23fd8bbe5283cedf14fcd4e
X-WR-TIMEZONE:America/New_York
BEGIN:VTIMEZONE
TZID:America/New_York
BEGIN:STANDARD
TZNAME:EST
DTSTART:20241103T020000
TZOFFSETFROM:-0400
TZOFFSETTO:-0500
RDATE:20251102T020000
END:STANDARD
BEGIN:DAYLIGHT
TZNAME:EDT
DTSTART:20250309T020000
TZOFFSETFROM:-0500
TZOFFSETTO:-0400
RDATE:20260308T020000
END:DAYLIGHT
END:VTIMEZONE
BEGIN:VEVENT
UID:10a77d6b-9c5d-435f-822c-d6ac0542f2fb
DTSTAMP:20260420T035041Z
DESCRIPTION:TOPIC: Hand / Power Tool Safety\nPRESENTER: Ray Struffolino\, C
 OSS\n\nMonthly Safety Webinar programs feature knowledgeable speakers who 
 provide your organization with information needed to stay on top of new sa
 fety and health regulations. \n\nPLEASE NOTE:  Virtual Meetings and Webina
 rs are not eligible for the BWC Safety Council Safety Campaign Rebate Prog
 ram. \n\nFREE\n
DTSTART;TZID=America/New_York:20250429T080000
DTEND;TZID=America/New_York:20250429T091500
LOCATION:Virtual via Zoom
SUMMARY:Monthly Safety Webinar
END:VEVENT
END:VCALENDAR
