BEGIN:VCALENDAR
VERSION:2.0
PRODID:-//scnwo.org//NONSGML kigkonsult.se iCalcreator 2.30.10//
CALSCALE:GREGORIAN
METHOD:PUBLISH
UID:f7c5f316-0afc-42b4-ae42-0a4d2d1b7700
X-WR-CALDESC:Topic:  DRONE TECHNOLOGY\nPresenter:  T. Michal Hostin\, Black
 hawk Aerial Photo Services \n\nStarting at $30.00\n\n12:00 p.m. - 1:30 p.m
 .\n\nCompliance luncheon programs feature knowledgeable speakers who provi
 de your organization with information needed to stay on top of new safety 
 and health regulations. The Safety Round Tables provide a unique networkin
 g opportunity for safety professionals to share information in the common 
 goal of achieving a cost effective safe workplace.\n\nCost: SCNWO Members 
 ONLY $30.00 per person\n\nCancellations less than 24 hours in advance and 
 No-shows are responsible for the full registration fees. Substitutions may
  be made at any time. Non-members must prepay to register.
X-WR-RELCALID:ac968666f97a8f04d31edbf46e098268
X-WR-TIMEZONE:America/New_York
BEGIN:VTIMEZONE
TZID:America/New_York
BEGIN:STANDARD
TZNAME:EST
DTSTART:20241103T020000
TZOFFSETFROM:-0400
TZOFFSETTO:-0500
RDATE:20251102T020000
RDATE:20261101T020000
END:STANDARD
BEGIN:DAYLIGHT
TZNAME:EDT
DTSTART:20250309T020000
TZOFFSETFROM:-0500
TZOFFSETTO:-0400
RDATE:20260308T020000
END:DAYLIGHT
END:VTIMEZONE
BEGIN:VEVENT
UID:6e5def26-732f-4ea7-acf3-fcb343859e3d
DTSTAMP:20260421T052949Z
DESCRIPTION:Topic:  DRONE TECHNOLOGY\nPresenter:  T. Michal Hostin\, Blackh
 awk Aerial Photo Services \n\nStarting at $30.00\n\n12:00 p.m. - 1:30 p.m.
 \n\nCompliance luncheon programs feature knowledgeable speakers who provid
 e your organization with information needed to stay on top of new safety a
 nd health regulations. The Safety Round Tables provide a unique networking
  opportunity for safety professionals to share information in the common g
 oal of achieving a cost effective safe workplace.\n\nCost: SCNWO Members O
 NLY $30.00 per person\n\nCancellations less than 24 hours in advance and N
 o-shows are responsible for the full registration fees. Substitutions may 
 be made at any time. Non-members must prepay to register.
DTSTART;TZID=America/New_York:20250610T120000
DTEND;TZID=America/New_York:20250610T133000
LOCATION:Safety Council of Northwest Ohio\, 8015 Rinker Pointe Court\, Nort
 hwood\, OH 43619
SUMMARY:Compliance Luncheon
END:VEVENT
END:VCALENDAR
