BEGIN:VCALENDAR
VERSION:2.0
PRODID:-//scnwo.org//NONSGML kigkonsult.se iCalcreator 2.30.10//
CALSCALE:GREGORIAN
METHOD:PUBLISH
UID:fedc9431-f5e5-46d9-ab2f-82f4d7a85466
X-WR-CALDESC:Topic:  OSHA UPDATE\nPresenter:  Todd Jensen\, Area Director T
 oledo OSHA Office\n\nStarting at $25\n\nBreakfast With The Experts program
 s feature knowledgeable speakers who provide your organization with inform
 ation needed to stay on top of new safety and health regulations. The Safe
 ty Round Tables provide a unique networking opportunity for safety profess
 ionals to share information in the common goal of achieving a cost effecti
 ve safe workplace.\n\nCost: Members $25.00 per person\nNon-Members $35.00 
 per person\n\nCancellations less than 24 hours in advance and No-shows are
  responsible for the full registration fees. Substitutions may be made at 
 any time. Non-members must prepay to register.
X-WR-RELCALID:4abf473a67bf5720ae37a48f3e30d92e
X-WR-TIMEZONE:America/New_York
BEGIN:VTIMEZONE
TZID:America/New_York
BEGIN:STANDARD
TZNAME:EST
DTSTART:20241103T020000
TZOFFSETFROM:-0400
TZOFFSETTO:-0500
RDATE:20251102T020000
RDATE:20261101T020000
END:STANDARD
BEGIN:DAYLIGHT
TZNAME:EDT
DTSTART:20250309T020000
TZOFFSETFROM:-0500
TZOFFSETTO:-0400
RDATE:20260308T020000
END:DAYLIGHT
END:VTIMEZONE
BEGIN:VEVENT
UID:f4703555-e229-470d-ac0a-1e5ad40735be
DTSTAMP:20260421T001357Z
DESCRIPTION:Topic:  OSHA UPDATE\nPresenter:  Todd Jensen\, Area Director To
 ledo OSHA Office\n\nStarting at $25\n\nBreakfast With The Experts programs
  feature knowledgeable speakers who provide your organization with informa
 tion needed to stay on top of new safety and health regulations. The Safet
 y Round Tables provide a unique networking opportunity for safety professi
 onals to share information in the common goal of achieving a cost effectiv
 e safe workplace.\n\nCost: Members $25.00 per person\nNon-Members $35.00 p
 er person\n\nCancellations less than 24 hours in advance and No-shows are 
 responsible for the full registration fees. Substitutions may be made at a
 ny time. Non-members must prepay to register.
DTSTART;TZID=America/New_York:20250618T073000
DTEND;TZID=America/New_York:20250618T090000
LOCATION:The Pinnacle\, 1772 Indianwood Circle\, Maumee\, OH  43537
SUMMARY:Breakfast with the Experts
END:VEVENT
END:VCALENDAR
