BEGIN:VCALENDAR
VERSION:2.0
PRODID:-//scnwo.org//NONSGML kigkonsult.se iCalcreator 2.30.10//
CALSCALE:GREGORIAN
METHOD:PUBLISH
UID:a96131f0-83c1-4204-bc83-2f2b4a6f7910
X-WR-CALDESC:Instructors:   Robert Momany\, COSS COSM\n\nStarting at: $115.
 00 \n\n8:00 a.m. - 4:00 p.m.\n\nThe Infection Control Risk Assessment (ICR
 A) Training program is designed to provide training to healthcare professi
 onals\, construction related professionals\, and other building trades\, t
 o ensure that they are familiar with the proper ICRA protocols/procedures 
 and why they need to be followed. Working with a greater awareness and com
 pliance of healthcare infection prevention and infection control protocols
  is a proactive approach that will directly affect patient safety and job 
 site safety in a positive way.  \n      \nICRA Program Outline:\nâ€¢	Introduc
 tion\nâ€¢	Goals and objectives \nâ€¢	What is ICRA? \nâ€¢	Impact of health and safet
 y of patients and staff in the facility\nâ€¢	Regulatory Authorities having ju
 risdiction \nâ€¢	Hazardous Agents \nâ€¢	ICRA Team with responsibilities defined 
 \nânâ	ICRA forms with discussion on purpose of each \nâ€¢	Interim life safety re
 quirements \nâ€¢	General Construction safety \nâ€¢	Containment and Barrier const
 ruction \nâ€¢	Biological sampling \nâ€¢	Summary and Questions \n\nCost: Members:
  $115.00 per person lunch included\nNon-Members: $145.00 per person lunch 
 included\n\nCancellations less than 24 hours in advance and No-shows are r
 esponsible for the full registration fees. Substitutions may be made at an
 y time. Non-members must prepay to register.\n
X-WR-RELCALID:00da8c8e4d069f0b61061710ca8b2fe1
X-WR-TIMEZONE:America/New_York
BEGIN:VTIMEZONE
TZID:America/New_York
BEGIN:STANDARD
TZNAME:EST
DTSTART:20241103T020000
TZOFFSETFROM:-0400
TZOFFSETTO:-0500
RDATE:20251102T020000
RDATE:20261101T020000
END:STANDARD
BEGIN:DAYLIGHT
TZNAME:EDT
DTSTART:20250309T020000
TZOFFSETFROM:-0500
TZOFFSETTO:-0400
RDATE:20260308T020000
END:DAYLIGHT
END:VTIMEZONE
BEGIN:VEVENT
UID:03e7a3ef-cc98-45ee-83ea-e0a2e3ca2361
DTSTAMP:20260421T082719Z
DESCRIPTION:Instructors:   Robert Momany\, COSS COSM\n\nStarting at: $115.0
 0 \n\n8:00 a.m. - 4:00 p.m.\n\nThe Infection Control Risk Assessment (ICRA
 ) Training program is designed to provide training to healthcare professio
 nals\, construction related professionals\, and other building trades\, to
  ensure that they are familiar with the proper ICRA protocols/procedures a
 nd why they need to be followed. Working with a greater awareness and comp
 liance of healthcare infection prevention and infection control protocols 
 is a proactive approach that will directly affect patient safety and job s
 ite safety in a positive way.  \n      \nICRA Program Outline:\nâ€¢	Introduct
 ion\nâ€¢	Goals and objectives \nâ€¢	What is ICRA? \nâ€¢	Impact of health and safety
  of patients and staff in the facility\nâ€¢	Regulatory Authorities having jur
 isdiction \nâ€¢	Hazardous Agents \nâ€¢	ICRA Team with responsibilities defined 
 \nânâ	ICRA forms with discussion on purpose of each \nâ€¢	Interim life safety re
 quirements \nâ€¢	General Construction safety \nâ€¢	Containment and Barrier const
 ruction \nâ€¢	Biological sampling \nâ€¢	Summary and Questions \n\nCost: Members:
  $115.00 per person lunch included\nNon-Members: $145.00 per person lunch 
 included\n\nCancellations less than 24 hours in advance and No-shows are r
 esponsible for the full registration fees. Substitutions may be made at an
 y time. Non-members must prepay to register.\n
DTSTART;TZID=America/New_York:20250821T080000
DTEND;TZID=America/New_York:20250821T160000
LOCATION:
SUMMARY:ICRA (Infection Control Risk Assessment) TRAINING
END:VEVENT
END:VCALENDAR
