BEGIN:VCALENDAR
VERSION:2.0
PRODID:-//scnwo.org//NONSGML kigkonsult.se iCalcreator 2.30.10//
CALSCALE:GREGORIAN
METHOD:PUBLISH
UID:31f5c8db-c8ad-487e-8e94-c84e1918c2a3
X-WR-CALDESC:Starting at: $205.00\n\n8:00 a.m. - 3:00 p.m.\n\nPresenter:  R
 ay Struffolino\, COSS\n\nThis electrical safe work practices course aids i
 n the steps to help Qualify an employee under the following:\n\nNFPA 70E 2
 018 Article 110.2 (A)(1)\n    and\nOSHA 29 CFR Sub Part S 1910.331-335\, 1
 910.399\n\nThe course provides general knowledge and understanding of the 
 existence\, nature\, causes\, and methods to prevent electrical hazards.\n
   \nWHO SHOULD ATTEND?\n\nOSHA 1910.331/1910.399 requires employers to eva
 luate and document company employees who perform\, or who have potential t
 o perform work on energized or potentially energized electrical equipment.
 \n\nâ–º Electrical Trades Personnel\nâ–º Supervisors\nâ–º Engineers\nâ–º Safety Ma
 nagers\nâ–º Any employee who needs to be determined by the Owner as a qualif
 ied electrical employee working on energized electrical equipment\nâ–º Safet
 y personnel who need help to Qualify their employees\n\nInstruction includ
 es: \n\nâ–º  Training on arc flash awareness & shock hazard awareness\nâ–º  St
 andards and codes\nâ–º  Understanding of arc flash energy values\nâ–º  Selecti
 on and use of appropriate PPE\nâ–º  Reading & following warning signs/labels
 \nânâ  Methods to reduce risk while working on live exposed parts\nâ–º  Arc fl
 ash & shock hazard assessments\nâ–º  Safe work practices documentation\nâ–º  B
 asic elements of how to Qualify your employees\nâ–º  Employerâ€™s on-site elec
 trical task training requirements to determine your employee is Qualified 
 to perform energized work.\n\nIn addition to the training\, OSHA and OSHA 
 On-site service will be discussed. FREE electrical compliance consultation
  services will be explained so that employers can take advantage of them t
 o create a compliant and safer workplace.\n\nCLASSROOM MATERIALS\n\nâ–º  Emp
 loyee Qualification Down Load Sheets\nâ–º  Hands-on Task Training Program pr
 ovided via Web Download\nâ–º  Certificate (upon test passage)\n\nThis traini
 ng covers employer's on-site electrical task training requirements which d
 etermine if your employee is QUALIFIED to perform energized work.\n\nCost:
  Members: $205.00 per person\nNon-Members: $305.00 per person\n\nCancellat
 ions less than 24 hours in advance and No-shows are responsible for the fu
 ll registration fees. Substitutions may be made at any time. Non-members m
 ust prepay to register.\n\nThe class can be presented on-site for 8 or mor
 e students. Contact the Safety Council for more information.
X-WR-RELCALID:7eda11d4b6c295220d0a0beb1457fe75
X-WR-TIMEZONE:America/New_York
BEGIN:VTIMEZONE
TZID:America/New_York
BEGIN:STANDARD
TZNAME:EST
DTSTART:20241103T020000
TZOFFSETFROM:-0400
TZOFFSETTO:-0500
RDATE:20251102T020000
RDATE:20261101T020000
END:STANDARD
BEGIN:DAYLIGHT
TZNAME:EDT
DTSTART:20250309T020000
TZOFFSETFROM:-0500
TZOFFSETTO:-0400
RDATE:20260308T020000
RDATE:20270314T020000
END:DAYLIGHT
END:VTIMEZONE
BEGIN:VEVENT
UID:a8466ac3-d4ac-4ae0-aad3-73ff51f02dc2
DTSTAMP:20260421T093658Z
DESCRIPTION:Starting at: $205.00\n\n8:00 a.m. - 3:00 p.m.\n\nPresenter:  Ra
 y Struffolino\, COSS\n\nThis electrical safe work practices course aids in
  the steps to help Qualify an employee under the following:\n\nNFPA 70E 20
 18 Article 110.2 (A)(1)\n    and\nOSHA 29 CFR Sub Part S 1910.331-335\, 19
 10.399\n\nThe course provides general knowledge and understanding of the e
 xistence\, nature\, causes\, and methods to prevent electrical hazards.\n 
  \nWHO SHOULD ATTEND?\n\nOSHA 1910.331/1910.399 requires employers to eval
 uate and document company employees who perform\, or who have potential to
  perform work on energized or potentially energized electrical equipment.
 \n\nâ–º Electrical Trades Personnel\nâ–º Supervisors\nâ–º Engineers\nâ–º Safety Ma
 nagers\nâ–º Any employee who needs to be determined by the Owner as a qualif
 ied electrical employee working on energized electrical equipment\nâ–º Safet
 y personnel who need help to Qualify their employees\n\nInstruction includ
 es: \n\nâ–º  Training on arc flash awareness & shock hazard awareness\nâ–º  St
 andards and codes\nâ–º  Understanding of arc flash energy values\nâ–º  Selecti
 on and use of appropriate PPE\nâ–º  Reading & following warning signs/labels
 \nânâ  Methods to reduce risk while working on live exposed parts\nâ–º  Arc fl
 ash & shock hazard assessments\nâ–º  Safe work practices documentation\nâ–º  B
 asic elements of how to Qualify your employees\nâ–º  Employerâ€™s on-site elec
 trical task training requirements to determine your employee is Qualified 
 to perform energized work.\n\nIn addition to the training\, OSHA and OSHA 
 On-site service will be discussed. FREE electrical compliance consultation
  services will be explained so that employers can take advantage of them t
 o create a compliant and safer workplace.\n\nCLASSROOM MATERIALS\n\nâ–º  Emp
 loyee Qualification Down Load Sheets\nâ–º  Hands-on Task Training Program pr
 ovided via Web Download\nâ–º  Certificate (upon test passage)\n\nThis traini
 ng covers employer's on-site electrical task training requirements which d
 etermine if your employee is QUALIFIED to perform energized work.\n\nCost:
  Members: $205.00 per person\nNon-Members: $305.00 per person\n\nCancellat
 ions less than 24 hours in advance and No-shows are responsible for the fu
 ll registration fees. Substitutions may be made at any time. Non-members m
 ust prepay to register.\n\nThe class can be presented on-site for 8 or mor
 e students. Contact the Safety Council for more information.
DTSTART;TZID=America/New_York:20250925T080000
DTEND;TZID=America/New_York:20250925T150000
LOCATION:Safety Council of Northwest Ohio\, 8015 Rinker Pointe Court\, Nort
 hwood\, OH 43619
SUMMARY:How to Qualify Electrical Workers for ARC FLASH & SHOCK HAZARD NFPA
  70E
END:VEVENT
END:VCALENDAR
