BEGIN:VCALENDAR
VERSION:2.0
PRODID:-//scnwo.org//NONSGML kigkonsult.se iCalcreator 2.30.10//
CALSCALE:GREGORIAN
METHOD:PUBLISH
UID:e5be6156-9c79-4da0-b0e4-7859a873c9f6
X-WR-CALDESC:Starting at: $40.00\n\n12:00 p.m. - 1:30 p.m.\n\nPlease plan t
 o join us for a sit-down luncheon along with a presentations from:\n\n    
          Jana M. Gessner\n\n Senior Vice President-Environmental\, Health\
 , and Safety for PepsiCo.\n\n            'Women In Safety'\n\n Cost: Membe
 rs $40.00 per person\nNon-Members $50.00 per person\n\nReservations are re
 quired and can be made by mailing\, e-mailing or faxing the reservation fo
 rm by the Deadline of January 16\, 2026. \n\n**This meeting qualifies for 
 BWC credit if you are in the Rebate Program.**\n\nCancellations less than 
 24 hours in advance and No-shows are responsible for the full registration
  fees. Substitutions may be made at any time. Non-members must prepay to r
 egister.\n
X-WR-RELCALID:acf140d2c145573d28aacc2930b77d38
X-WR-TIMEZONE:America/New_York
BEGIN:VTIMEZONE
TZID:America/New_York
BEGIN:STANDARD
TZNAME:EST
DTSTART:20251102T020000
TZOFFSETFROM:-0400
TZOFFSETTO:-0500
RDATE:20261101T020000
END:STANDARD
BEGIN:DAYLIGHT
TZNAME:EDT
DTSTART:20250309T020000
TZOFFSETFROM:-0500
TZOFFSETTO:-0400
RDATE:20260308T020000
RDATE:20270314T020000
END:DAYLIGHT
END:VTIMEZONE
BEGIN:VEVENT
UID:75e95f8e-4dff-482b-8c2e-054358a6dffb
DTSTAMP:20260423T133406Z
DESCRIPTION:Starting at: $40.00\n\n12:00 p.m. - 1:30 p.m.\n\nPlease plan to
  join us for a sit-down luncheon along with a presentations from:\n\n     
         Jana M. Gessner\n\n Senior Vice President-Environmental\, Health\,
  and Safety for PepsiCo.\n\n            'Women In Safety'\n\n Cost: Member
 s $40.00 per person\nNon-Members $50.00 per person\n\nReservations are req
 uired and can be made by mailing\, e-mailing or faxing the reservation for
 m by the Deadline of January 16\, 2026. \n\n**This meeting qualifies for B
 WC credit if you are in the Rebate Program.**\n\nCancellations less than 2
 4 hours in advance and No-shows are responsible for the full registration 
 fees. Substitutions may be made at any time. Non-members must prepay to re
 gister.\n
DTSTART;TZID=America/New_York:20260129T120000
DTEND;TZID=America/New_York:20260129T133000
LOCATION:The Pinnacle\, 1772 Indian Wood Circle\, Maumee\, OH  43537
SUMMARY:66th Annual Meeting of the Members
END:VEVENT
END:VCALENDAR
