BEGIN:VCALENDAR
VERSION:2.0
PRODID:-//scnwo.org//NONSGML kigkonsult.se iCalcreator 2.30.10//
CALSCALE:GREGORIAN
METHOD:PUBLISH
UID:fc1e5aec-3c7f-4dc4-bc2b-83bef0ac57b2
X-WR-CALDESC:TOPIC: Hand and Battery Powered Tools\nPRESENTER: Ray Struffol
 ino\, COSS\n\nMonthly Safety Webinar programs feature knowledgeable speake
 rs who provide your organization with information needed to stay on top of
  new safety and health regulations. \n\nPLEASE NOTE:  Virtual Meetings and
  Webinars are not eligible for the BWC Safety Council Safety Campaign Reba
 te Program. \n\nFREE\n
X-WR-RELCALID:01dd112baf8c7466a5494c874a989a25
X-WR-TIMEZONE:America/New_York
BEGIN:VTIMEZONE
TZID:America/New_York
BEGIN:STANDARD
TZNAME:EST
DTSTART:20251102T020000
TZOFFSETFROM:-0400
TZOFFSETTO:-0500
RDATE:20261101T020000
END:STANDARD
BEGIN:DAYLIGHT
TZNAME:EDT
DTSTART:20260308T020000
TZOFFSETFROM:-0500
TZOFFSETTO:-0400
RDATE:20270314T020000
END:DAYLIGHT
END:VTIMEZONE
BEGIN:VEVENT
UID:d6e24236-3278-4976-a897-292be3ca2b92
DTSTAMP:20260421T081525Z
DESCRIPTION:TOPIC: Hand and Battery Powered Tools\nPRESENTER: Ray Struffoli
 no\, COSS\n\nMonthly Safety Webinar programs feature knowledgeable speaker
 s who provide your organization with information needed to stay on top of 
 new safety and health regulations. \n\nPLEASE NOTE:  Virtual Meetings and 
 Webinars are not eligible for the BWC Safety Council Safety Campaign Rebat
 e Program. \n\nFREE\n
DTSTART;TZID=America/New_York:20260324T080000
DTEND;TZID=America/New_York:20260324T091500
LOCATION:Virtual via Zoom
SUMMARY:Monthly Safety Webinar
END:VEVENT
END:VCALENDAR
