BEGIN:VCALENDAR
VERSION:2.0
PRODID:-//scnwo.org//NONSGML kigkonsult.se iCalcreator 2.30.10//
CALSCALE:GREGORIAN
METHOD:PUBLISH
UID:40ee88da-e554-408f-9c6a-778db23ce459
X-WR-CALDESC:Free – Free – Free! This annual blockbuster conference is FREE
  to Northwest Ohio and visitors. Presented and coordinated by professional
  volunteers – this event is the largest in Northwest Ohio. Five specialty 
 sessions held in the Theater throughout the day and over 30 vendors all in
  one place! \n\nOnline registration is available at the Safety & Health Da
 y website:  www.SafetyandHealthday.com\n
X-WR-RELCALID:65e783fee0c403b5b79e5dbf7f01c02e
X-WR-TIMEZONE:America/New_York
BEGIN:VTIMEZONE
TZID:America/New_York
BEGIN:STANDARD
TZNAME:EST
DTSTART:20251102T020000
TZOFFSETFROM:-0400
TZOFFSETTO:-0500
RDATE:20261101T020000
RDATE:20271107T020000
END:STANDARD
BEGIN:DAYLIGHT
TZNAME:EDT
DTSTART:20260308T020000
TZOFFSETFROM:-0500
TZOFFSETTO:-0400
RDATE:20270314T020000
END:DAYLIGHT
END:VTIMEZONE
BEGIN:VEVENT
UID:ac195197-07d5-4a70-9764-a8487e3e4239
DTSTAMP:20260423T042732Z
DESCRIPTION:Free – Free – Free! This annual blockbuster conference is FREE 
 to Northwest Ohio and visitors. Presented and coordinated by professional 
 volunteers – this event is the largest in Northwest Ohio. Five specialty s
 essions held in the Theater throughout the day and over 30 vendors all in 
 one place! \n\nOnline registration is available at the Safety & Health Day
  website:  www.SafetyandHealthday.com\n
DTSTART;TZID=America/New_York:20260513T073000
DTEND;TZID=America/New_York:20260513T154500
LOCATION:Owens Community College Center for Fine & Preforming Arts 7270 Bin
 ker Rd. Perrysburg\, Ohio 43551
SUMMARY:Northwest Ohio Safety & Health Day
END:VEVENT
END:VCALENDAR
