BEGIN:VCALENDAR
VERSION:2.0
PRODID:-//scnwo.org//NONSGML kigkonsult.se iCalcreator 2.30.10//
CALSCALE:GREGORIAN
METHOD:PUBLISH
UID:2c1ee626-0643-475c-b5c8-3c508d8f8a9c
X-WR-CALDESC:Starting at: $150.00\n\n9:00 a.m. - 12:00 p.m.\n\nThis session
  will focus on the control of hazardous energy\, lockout/tagout. Items add
 ressed will include the scope of the standard and where it does/does not a
 pply\, energy control programs and procedures\, training and retraining\, 
 lock/tag removal\, and working with contractors.\n\nCost: Members $150.00 
 per person\nNon-Members $250.00 per person\n\nCancellations less than 24 h
 ours in advance and No-shows are responsible for the full registration fee
 s. Substitutions may be made at any time.
X-WR-RELCALID:47388699b2999c59203ec6ef40404c7f
X-WR-TIMEZONE:America/New_York
BEGIN:VTIMEZONE
TZID:America/New_York
BEGIN:STANDARD
TZNAME:EST
DTSTART:20251102T020000
TZOFFSETFROM:-0400
TZOFFSETTO:-0500
RDATE:20261101T020000
RDATE:20271107T020000
END:STANDARD
BEGIN:DAYLIGHT
TZNAME:EDT
DTSTART:20260308T020000
TZOFFSETFROM:-0500
TZOFFSETTO:-0400
RDATE:20270314T020000
END:DAYLIGHT
END:VTIMEZONE
BEGIN:VEVENT
UID:bdd2893c-d7a2-4d02-b180-10ff0b2d7641
DTSTAMP:20260420T105126Z
DESCRIPTION:Starting at: $150.00\n\n9:00 a.m. - 12:00 p.m.\n\nThis session 
 will focus on the control of hazardous energy\, lockout/tagout. Items addr
 essed will include the scope of the standard and where it does/does not ap
 ply\, energy control programs and procedures\, training and retraining\, l
 ock/tag removal\, and working with contractors.\n\nCost: Members $150.00 p
 er person\nNon-Members $250.00 per person\n\nCancellations less than 24 ho
 urs in advance and No-shows are responsible for the full registration fees
 . Substitutions may be made at any time.
DTSTART;TZID=America/New_York:20260521T090000
DTEND;TZID=America/New_York:20260521T120000
LOCATION:Safety Council of Northwest Ohio\, 8015 Rinker Pointe Court\, Nort
 hwood\, OH 43619
SUMMARY:Control Of Hazardous Energy – Lockout/Tagout
END:VEVENT
END:VCALENDAR
