BEGIN:VCALENDAR
VERSION:2.0
PRODID:-//scnwo.org//NONSGML kigkonsult.se iCalcreator 2.30.10//
CALSCALE:GREGORIAN
METHOD:PUBLISH
UID:c9cfdaaa-f0de-4549-bda6-c41a3d3e19b7
X-WR-CALDESC:Starting at $25\n\nTopic: Safety When Restoring Power After a 
 Damaging Storm\nPresenter: Ray Struffolino\, COSS\n                   Safe
 ty Council of Northwest Ohio\n\nBreakfast With The Experts programs featur
 e knowledgeable speakers who provide your organization with information ne
 eded to stay on top of new safety and health regulations. The Safety Round
  Tables provide a unique networking opportunity for safety professionals t
 o share information in the common goal of achieving a cost effective safe 
 workplace.\n\nCost: Members $25.00 per person\nNon-Members $35.00 per pers
 on\n\nCancellations less than 24 hours in advance and No-shows are respons
 ible for the full registration fees. Substitutions may be made at any time
 . Non-members must prepay to register.
X-WR-RELCALID:061f38f69094837ed337e3c9560c2525
X-WR-TIMEZONE:America/New_York
BEGIN:VTIMEZONE
TZID:America/New_York
BEGIN:STANDARD
TZNAME:EST
DTSTART:20241103T020000
TZOFFSETFROM:-0400
TZOFFSETTO:-0500
RDATE:20251102T020000
RDATE:20261101T020000
END:STANDARD
BEGIN:DAYLIGHT
TZNAME:EDT
DTSTART:20250309T020000
TZOFFSETFROM:-0500
TZOFFSETTO:-0400
RDATE:20260308T020000
RDATE:20270314T020000
END:DAYLIGHT
END:VTIMEZONE
BEGIN:VEVENT
UID:c9e78dd5-060a-4410-a33e-3486739ba78f
DTSTAMP:20260425T195319Z
DESCRIPTION:Starting at $25\n\nTopic: Safety When Restoring Power After a D
 amaging Storm\nPresenter: Ray Struffolino\, COSS\n                   Safet
 y Council of Northwest Ohio\n\nBreakfast With The Experts programs feature
  knowledgeable speakers who provide your organization with information nee
 ded to stay on top of new safety and health regulations. The Safety Round 
 Tables provide a unique networking opportunity for safety professionals to
  share information in the common goal of achieving a cost effective safe w
 orkplace.\n\nCost: Members $25.00 per person\nNon-Members $35.00 per perso
 n\n\nCancellations less than 24 hours in advance and No-shows are responsi
 ble for the full registration fees. Substitutions may be made at any time.
  Non-members must prepay to register.
DTSTART;TZID=America/New_York:20251015T073000
DTEND;TZID=America/New_York:20251015T090000
LOCATION:The Pinnacle\, 1772 Indianwood Circle\, Maumee\, OH  43537
SUMMARY:Breakfast with the Experts
END:VEVENT
END:VCALENDAR
