BEGIN:VCALENDAR
VERSION:2.0
PRODID:-//scnwo.org//NONSGML kigkonsult.se iCalcreator 2.30.10//
CALSCALE:GREGORIAN
METHOD:PUBLISH
UID:7760e149-fd42-4b42-9f14-5066b5465cc2
X-WR-CALDESC:Starting at $30.00\n\n12:00 p.m. - 1:30 p.m.\n\nTOPIC: Motorcy
 cle Awareness and Safety\nPRESENTER: Vickey Johnson\, COSS\n              
          GM of Napoleon Harley Davidson\n\nCompliance luncheon programs fe
 ature knowledgeable speakers who provide your organization with informatio
 n needed to stay on top of new safety and health regulations. The Safety R
 ound Tables provide a unique networking opportunity for safety professiona
 ls to share information in the common goal of achieving a cost effective s
 afe workplace.\n\nCost: SCNWO Members ONLY $30.00 per person\n\nCancellati
 ons less than 24 hours in advance and No-shows are responsible for the ful
 l registration fees. Substitutions may be made at any time. Non-members mu
 st prepay to register.
X-WR-RELCALID:917acf10176c7ab8922796a06e2fae5f
X-WR-TIMEZONE:America/New_York
BEGIN:VTIMEZONE
TZID:America/New_York
BEGIN:STANDARD
TZNAME:EST
DTSTART:20251102T020000
TZOFFSETFROM:-0400
TZOFFSETTO:-0500
RDATE:20261101T020000
RDATE:20271107T020000
END:STANDARD
BEGIN:DAYLIGHT
TZNAME:EDT
DTSTART:20260308T020000
TZOFFSETFROM:-0500
TZOFFSETTO:-0400
RDATE:20270314T020000
END:DAYLIGHT
END:VTIMEZONE
BEGIN:VEVENT
UID:d7272c95-73cd-4726-9286-af02dd96e7f4
DTSTAMP:20260423T042326Z
DESCRIPTION:Starting at $30.00\n\n12:00 p.m. - 1:30 p.m.\n\nTOPIC: Motorcyc
 le Awareness and Safety\nPRESENTER: Vickey Johnson\, COSS\n               
         GM of Napoleon Harley Davidson\n\nCompliance luncheon programs fea
 ture knowledgeable speakers who provide your organization with information
  needed to stay on top of new safety and health regulations. The Safety Ro
 und Tables provide a unique networking opportunity for safety professional
 s to share information in the common goal of achieving a cost effective sa
 fe workplace.\n\nCost: SCNWO Members ONLY $30.00 per person\n\nCancellatio
 ns less than 24 hours in advance and No-shows are responsible for the full
  registration fees. Substitutions may be made at any time. Non-members mus
 t prepay to register.
DTSTART;TZID=America/New_York:20260512T120000
DTEND;TZID=America/New_York:20260512T133000
LOCATION:Safety Council of Northwest Ohio\, 8015 Rinker Pointe Court\, Nort
 hwood\, OH 43619
SUMMARY:Compliance Luncheon
END:VEVENT
END:VCALENDAR
