BEGIN:VCALENDAR
VERSION:2.0
PRODID:-//scnwo.org//NONSGML kigkonsult.se iCalcreator 2.30.10//
CALSCALE:GREGORIAN
METHOD:PUBLISH
UID:d682a530-f3c7-46c6-be13-6eca8646ff9d
X-WR-CALDESC:Starting at $30.00\n\n12:00 p.m. - 1:30 p.m.\n\nCompliance lun
 cheon programs feature knowledgeable speakers who provide your organizatio
 n with information needed to stay on top of new safety and health regulati
 ons. The Safety Round Tables provide a unique networking opportunity for s
 afety professionals to share information in the common goal of achieving a
  cost effective safe workplace.\n\nCost: SCNWO Members ONLY $30.00 per per
 son\n\nCancellations less than 24 hours in advance and No-shows are respon
 sible for the full registration fees. Substitutions may be made at any tim
 e. Non-members must prepay to register.
X-WR-RELCALID:99492d3de45f0e783302c425d48d74c7
X-WR-TIMEZONE:America/New_York
BEGIN:VTIMEZONE
TZID:America/New_York
BEGIN:STANDARD
TZNAME:EST
DTSTART:20261101T020000
TZOFFSETFROM:-0400
TZOFFSETTO:-0500
RDATE:20271107T020000
END:STANDARD
BEGIN:DAYLIGHT
TZNAME:EDT
DTSTART:20260308T020000
TZOFFSETFROM:-0500
TZOFFSETTO:-0400
RDATE:20270314T020000
RDATE:20280312T020000
END:DAYLIGHT
END:VTIMEZONE
BEGIN:VEVENT
UID:5ecc80be-6e00-42ea-9bce-37d16f07887e
DTSTAMP:20260423T030200Z
DESCRIPTION:Starting at $30.00\n\n12:00 p.m. - 1:30 p.m.\n\nCompliance lunc
 heon programs feature knowledgeable speakers who provide your organization
  with information needed to stay on top of new safety and health regulatio
 ns. The Safety Round Tables provide a unique networking opportunity for sa
 fety professionals to share information in the common goal of achieving a 
 cost effective safe workplace.\n\nCost: SCNWO Members ONLY $30.00 per pers
 on\n\nCancellations less than 24 hours in advance and No-shows are respons
 ible for the full registration fees. Substitutions may be made at any time
 . Non-members must prepay to register.
DTSTART;TZID=America/New_York:20261110T120000
DTEND;TZID=America/New_York:20261110T133000
LOCATION:Safety Council of Northwest Ohio\, 8015 Rinker Pointe Court\, Nort
 hwood\, OH 43619
SUMMARY:Compliance Luncheon
END:VEVENT
END:VCALENDAR
