BEGIN:VCALENDAR
VERSION:2.0
PRODID:-//scnwo.org//NONSGML kigkonsult.se iCalcreator 2.30.10//
CALSCALE:GREGORIAN
METHOD:PUBLISH
UID:d66eaf86-1ac7-4b48-ae81-d31a5638a847
X-WR-CALDESC:Starting at: $175.00\n\nInstructor: Donald Elswick\, CIH CSP C
 IT CHMM  \n                  ELSMART Associates\, LLC\n\nAccording to a st
 udy by the chemical Safety Board\, dust explosions remain a serious proble
 m in American industry.  Over the last 30 years there have been more than 
 3\,500 combustible dust explosions\, 281 of these have been major incident
 s resulting in the deaths of 119 workers and another 718 workers sustained
  injuries.\nThis half-day course explains the requirements for a Dust Haza
 rd Analysis (DHA) and an overview of the methodologies that can be employe
 d to perform a DHA.\nThe course also includes a logical approach to charac
 terizing a powder's hazardous dust properties\, as well as a description o
 f various techniques used to control and/or avoid dust explosions in a saf
 e and compliant manner utilizing OSHA and NFPA standards.\n\nCost: Members
 : $175.00 per person\nNon-Members: $275.00 per person\n\nCancellations les
 s than 24 hours in advance and no-shows are responsible for the full regis
 tration fees. Substitutions may be made at anytime.
X-WR-RELCALID:c1f692debaf2ebd780b91761ddbb4d64
X-WR-TIMEZONE:America/New_York
BEGIN:VTIMEZONE
TZID:America/New_York
BEGIN:STANDARD
TZNAME:EST
DTSTART:20251102T020000
TZOFFSETFROM:-0400
TZOFFSETTO:-0500
RDATE:20261101T020000
RDATE:20271107T020000
END:STANDARD
BEGIN:DAYLIGHT
TZNAME:EDT
DTSTART:20260308T020000
TZOFFSETFROM:-0500
TZOFFSETTO:-0400
RDATE:20270314T020000
END:DAYLIGHT
END:VTIMEZONE
BEGIN:VEVENT
UID:1c8ae1b7-bbbd-481a-8391-44023a2398b2
DTSTAMP:20260422T050116Z
DESCRIPTION:Starting at: $175.00\n\nInstructor: Donald Elswick\, CIH CSP CI
 T CHMM  \n                  ELSMART Associates\, LLC\n\nAccording to a stu
 dy by the chemical Safety Board\, dust explosions remain a serious problem
  in American industry.  Over the last 30 years there have been more than 3
 \,500 combustible dust explosions\, 281 of these have been major incidents
  resulting in the deaths of 119 workers and another 718 workers sustained 
 injuries.\nThis half-day course explains the requirements for a Dust Hazar
 d Analysis (DHA) and an overview of the methodologies that can be employed
  to perform a DHA.\nThe course also includes a logical approach to charact
 erizing a powder's hazardous dust properties\, as well as a description of
  various techniques used to control and/or avoid dust explosions in a safe
  and compliant manner utilizing OSHA and NFPA standards.\n\nCost: Members:
  $175.00 per person\nNon-Members: $275.00 per person\n\nCancellations less
  than 24 hours in advance and no-shows are responsible for the full regist
 ration fees. Substitutions may be made at anytime.
DTSTART;TZID=America/New_York:20260803T080000
DTEND;TZID=America/New_York:20260803T120000
LOCATION:
SUMMARY:Combustible Dust Management & Safety
END:VEVENT
END:VCALENDAR
