BEGIN:VCALENDAR
VERSION:2.0
PRODID:-//scnwo.org//NONSGML kigkonsult.se iCalcreator 2.30.10//
CALSCALE:GREGORIAN
METHOD:PUBLISH
UID:756ac84f-67aa-4da0-b29f-914e371c7214
X-WR-CALDESC:9:00 a.m. - 4:00 p.m. each day\n\nStarting at: $650.00 \n\nThi
 s State of Ohio approved 3-day Train-the-Trainer program will prepare reme
 dial schools to teach Coaching Systems Coaching The Experienced Driver PLU
 S™\,  OHIO VERSION  program — an OHIO APPROVED REMEDIAL DEFENSIVE  DRIVING
  PROGRAM that focuses on improving an operator’s ability to read traffic c
 onditions\, act accordingly\, and prevent collisions.  Throughout the  tra
 ining  session\, attendees will not only complete the courses themselves… 
 they will also learn proven educational methods and valuable tips for runn
 ing a successful training program.   \n\nPARTICIPANTS WILL RECEIVE A Coach
 ing The Experienced Driver PLUS OHIO VERSION INSTRUCTOR’S KIT\, WHICH INCL
 UDES:\n\n     ●  A comprehensive PRESENTATION ON USB  covering cushion of 
 safety\, scanning\, stopping and following distances\, vehicle positioning
 \, \n         blind spots\, intersections\, backing and parking procedures
 \, and more.  \n     ●  A fully scripted LEADER’S GUIDE that offers a step
 -by-step presentation with wide margins for notes and customization. It al
 so \n         includes Application Team Scenario questions\, a reproducibl
 e Driver Test\, and a Class Registration Form. \n\nOPERATOR RESPONSE BOOKS
  (One included in class - Quantities available separately) actively involv
 e participants throughout the training. Participants recall and apply info
 rmation presented in the video segments to Response Book situations and ex
 ercises.   \n\n$650 per person – includes complete kit\, 3 days of trainin
 g & email updates. \n\nPARTICIPANTS WILL RECEIVE INSTRUCTOR CERTIFICATION 
 AFTER COMPLETING THE TRAIN-THE-TRAINER PROGRAM.  \n\nADVANCE REGISTRATION 
 REQUIRED AT LEAST ONE WEEK BEFORE THE SCHEDULED CLASS!   An additional $10
 0 is charged for failing to pre-register. \n\nQuestions?\n                
       In regards to the Coaching Systems program\, contact the Safety Coun
 cil toll-free (877) 457-1818\n                      In regards to State of
  Ohio DPS issues\, contact Stacey Thompson (614) 466-3524
X-WR-RELCALID:c1e45e4eeb79d5c56ad758d2bf1c3f24
X-WR-TIMEZONE:America/New_York
BEGIN:VTIMEZONE
TZID:America/New_York
BEGIN:STANDARD
TZNAME:EST
DTSTART:20251102T020000
TZOFFSETFROM:-0400
TZOFFSETTO:-0500
RDATE:20261101T020000
RDATE:20271107T020000
END:STANDARD
BEGIN:DAYLIGHT
TZNAME:EDT
DTSTART:20260308T020000
TZOFFSETFROM:-0500
TZOFFSETTO:-0400
RDATE:20270314T020000
RDATE:20280312T020000
END:DAYLIGHT
END:VTIMEZONE
BEGIN:VEVENT
UID:2659e6fc-ddea-484e-9c7a-82163192da04
DTSTAMP:20260421T090521Z
DESCRIPTION:9:00 a.m. - 4:00 p.m. each day\n\nStarting at: $650.00 \n\nThis
  State of Ohio approved 3-day Train-the-Trainer program will prepare remed
 ial schools to teach Coaching Systems Coaching The Experienced Driver PLUS
 ™\,  OHIO VERSION  program — an OHIO APPROVED REMEDIAL DEFENSIVE  DRIVING 
 PROGRAM that focuses on improving an operator’s ability to read traffic co
 nditions\, act accordingly\, and prevent collisions.  Throughout the  trai
 ning  session\, attendees will not only complete the courses themselves… t
 hey will also learn proven educational methods and valuable tips for runni
 ng a successful training program.   \n\nPARTICIPANTS WILL RECEIVE A Coachi
 ng The Experienced Driver PLUS OHIO VERSION INSTRUCTOR’S KIT\, WHICH INCLU
 DES:\n\n     ●  A comprehensive PRESENTATION ON USB  covering cushion of s
 afety\, scanning\, stopping and following distances\, vehicle positioning\
 , \n         blind spots\, intersections\, backing and parking procedures\
 , and more.  \n     ●  A fully scripted LEADER’S GUIDE that offers a step-
 by-step presentation with wide margins for notes and customization. It als
 o \n         includes Application Team Scenario questions\, a reproducible
  Driver Test\, and a Class Registration Form. \n\nOPERATOR RESPONSE BOOKS 
 (One included in class - Quantities available separately) actively involve
  participants throughout the training. Participants recall and apply infor
 mation presented in the video segments to Response Book situations and exe
 rcises.   \n\n$650 per person – includes complete kit\, 3 days of training
  & email updates. \n\nPARTICIPANTS WILL RECEIVE INSTRUCTOR CERTIFICATION A
 FTER COMPLETING THE TRAIN-THE-TRAINER PROGRAM.  \n\nADVANCE REGISTRATION R
 EQUIRED AT LEAST ONE WEEK BEFORE THE SCHEDULED CLASS!   An additional $100
  is charged for failing to pre-register. \n\nQuestions?\n                 
      In regards to the Coaching Systems program\, contact the Safety Counc
 il toll-free (877) 457-1818\n                      In regards to State of 
 Ohio DPS issues\, contact Stacey Thompson (614) 466-3524
DTSTART;TZID=America/New_York:20260928T090000
DTEND;TZID=America/New_York:20260930T160000
LOCATION:Virtual via Zoom
SUMMARY:VIRTUAL Remedial Driving Instructor Train-the-Trainer
END:VEVENT
END:VCALENDAR
